BEGIN:VCALENDAR
VERSION:2.0
PRODID:-//Official Website of Barnes County, North Dakota - ECPv6.15.20//NONSGML v1.0//EN
CALSCALE:GREGORIAN
METHOD:PUBLISH
X-ORIGINAL-URL:https://www.barnescounty.us
X-WR-CALDESC:Events for Official Website of Barnes County, North Dakota
REFRESH-INTERVAL;VALUE=DURATION:PT1H
X-Robots-Tag:noindex
X-PUBLISHED-TTL:PT1H
BEGIN:VTIMEZONE
TZID:America/Chicago
BEGIN:DAYLIGHT
TZOFFSETFROM:-0600
TZOFFSETTO:-0500
TZNAME:CDT
DTSTART:20240310T080000
END:DAYLIGHT
BEGIN:STANDARD
TZOFFSETFROM:-0500
TZOFFSETTO:-0600
TZNAME:CST
DTSTART:20241103T070000
END:STANDARD
BEGIN:DAYLIGHT
TZOFFSETFROM:-0600
TZOFFSETTO:-0500
TZNAME:CDT
DTSTART:20250309T080000
END:DAYLIGHT
BEGIN:STANDARD
TZOFFSETFROM:-0500
TZOFFSETTO:-0600
TZNAME:CST
DTSTART:20251102T070000
END:STANDARD
BEGIN:DAYLIGHT
TZOFFSETFROM:-0600
TZOFFSETTO:-0500
TZNAME:CDT
DTSTART:20260308T080000
END:DAYLIGHT
BEGIN:STANDARD
TZOFFSETFROM:-0500
TZOFFSETTO:-0600
TZNAME:CST
DTSTART:20261101T070000
END:STANDARD
END:VTIMEZONE
BEGIN:VEVENT
DTSTART;TZID=America/Chicago:20250714T064500
DTEND;TZID=America/Chicago:20250714T090000
DTSTAMP:20260422T015245
CREATED:20250710T155935Z
LAST-MODIFIED:20250710T155935Z
UID:2714-1752475500-1752483600@www.barnescounty.us
SUMMARY:VC-BC Development Corporation Agenda
DESCRIPTION:20250714 VCBC Dev Agenda
URL:https://www.barnescounty.us/index.php/event/vc-bc-development-corporation-agenda/
END:VEVENT
BEGIN:VEVENT
DTSTART;TZID=America/Chicago:20250714T090000
DTEND;TZID=America/Chicago:20250714T120000
DTSTAMP:20260422T015245
CREATED:20250707T181103Z
LAST-MODIFIED:20250707T181103Z
UID:2701-1752483600-1752494400@www.barnescounty.us
SUMMARY:Water Resource District Meeting
DESCRIPTION:agenda 1
URL:https://www.barnescounty.us/index.php/event/water-resource-district-meeting/
END:VEVENT
END:VCALENDAR