BEGIN:VCALENDAR
VERSION:2.0
PRODID:-//Official Website of Barnes County, North Dakota - ECPv6.15.20//NONSGML v1.0//EN
CALSCALE:GREGORIAN
METHOD:PUBLISH
X-ORIGINAL-URL:https://www.barnescounty.us
X-WR-CALDESC:Events for Official Website of Barnes County, North Dakota
REFRESH-INTERVAL;VALUE=DURATION:PT1H
X-Robots-Tag:noindex
X-PUBLISHED-TTL:PT1H
BEGIN:VTIMEZONE
TZID:America/Chicago
BEGIN:DAYLIGHT
TZOFFSETFROM:-0600
TZOFFSETTO:-0500
TZNAME:CDT
DTSTART:20240310T080000
END:DAYLIGHT
BEGIN:STANDARD
TZOFFSETFROM:-0500
TZOFFSETTO:-0600
TZNAME:CST
DTSTART:20241103T070000
END:STANDARD
BEGIN:DAYLIGHT
TZOFFSETFROM:-0600
TZOFFSETTO:-0500
TZNAME:CDT
DTSTART:20250309T080000
END:DAYLIGHT
BEGIN:STANDARD
TZOFFSETFROM:-0500
TZOFFSETTO:-0600
TZNAME:CST
DTSTART:20251102T070000
END:STANDARD
BEGIN:DAYLIGHT
TZOFFSETFROM:-0600
TZOFFSETTO:-0500
TZNAME:CDT
DTSTART:20260308T080000
END:DAYLIGHT
BEGIN:STANDARD
TZOFFSETFROM:-0500
TZOFFSETTO:-0600
TZNAME:CST
DTSTART:20261101T070000
END:STANDARD
END:VTIMEZONE
BEGIN:VEVENT
DTSTART;TZID=America/Chicago:20250812T080000
DTEND;TZID=America/Chicago:20250812T100000
DTSTAMP:20260422T003033
CREATED:20250717T203922Z
LAST-MODIFIED:20250717T203922Z
UID:2738-1754985600-1754992800@www.barnescounty.us
SUMMARY:Weed Board Meeting
DESCRIPTION:August 12\, 2025 Weed Board Agenda
URL:https://www.barnescounty.us/index.php/event/weed-board-meeting-5/
LOCATION:Barnes County Highway Department
END:VEVENT
END:VCALENDAR