BEGIN:VCALENDAR
VERSION:2.0
PRODID:-//Official Website of Barnes County, North Dakota - ECPv6.15.20//NONSGML v1.0//EN
CALSCALE:GREGORIAN
METHOD:PUBLISH
X-WR-CALNAME:Official Website of Barnes County, North Dakota
X-ORIGINAL-URL:https://www.barnescounty.us
X-WR-CALDESC:Events for Official Website of Barnes County, North Dakota
REFRESH-INTERVAL;VALUE=DURATION:PT1H
X-Robots-Tag:noindex
X-PUBLISHED-TTL:PT1H
BEGIN:VTIMEZONE
TZID:America/Chicago
BEGIN:DAYLIGHT
TZOFFSETFROM:-0600
TZOFFSETTO:-0500
TZNAME:CDT
DTSTART:20240310T080000
END:DAYLIGHT
BEGIN:STANDARD
TZOFFSETFROM:-0500
TZOFFSETTO:-0600
TZNAME:CST
DTSTART:20241103T070000
END:STANDARD
BEGIN:DAYLIGHT
TZOFFSETFROM:-0600
TZOFFSETTO:-0500
TZNAME:CDT
DTSTART:20250309T080000
END:DAYLIGHT
BEGIN:STANDARD
TZOFFSETFROM:-0500
TZOFFSETTO:-0600
TZNAME:CST
DTSTART:20251102T070000
END:STANDARD
BEGIN:DAYLIGHT
TZOFFSETFROM:-0600
TZOFFSETTO:-0500
TZNAME:CDT
DTSTART:20260308T080000
END:DAYLIGHT
BEGIN:STANDARD
TZOFFSETFROM:-0500
TZOFFSETTO:-0600
TZNAME:CST
DTSTART:20261101T070000
END:STANDARD
END:VTIMEZONE
BEGIN:VEVENT
DTSTART;TZID=America/Chicago:20251225T000000
DTEND;TZID=America/Chicago:20251226T235959
DTSTAMP:20260421T181628
CREATED:20251105T171315Z
LAST-MODIFIED:20251230T164508Z
UID:3333-1766620800-1766793599@www.barnescounty.us
SUMMARY:Offices Closed (Christmas Day)
DESCRIPTION:All Barnes County Office’s will be closed for Christmas Day and the day after Christmas Day (December 26th)\, with the exception of Barnes County Dispatch\, Barnes County Correctional Center\, and the Barnes County Sheriff’s Office working 24/7. If you have any concerns or questions\, please get ahold of the courthouse on the next available business day.
URL:https://www.barnescounty.us/index.php/event/offices-closed-christmas-day/
LOCATION:Barnes County Courthouse\, 230 4th St. NW\, Valley City\, 58072\, United States
END:VEVENT
END:VCALENDAR