BEGIN:VCALENDAR
VERSION:2.0
PRODID:-//Official Website of Barnes County, North Dakota - ECPv6.15.20//NONSGML v1.0//EN
CALSCALE:GREGORIAN
METHOD:PUBLISH
X-WR-CALNAME:Official Website of Barnes County, North Dakota
X-ORIGINAL-URL:https://www.barnescounty.us
X-WR-CALDESC:Events for Official Website of Barnes County, North Dakota
REFRESH-INTERVAL;VALUE=DURATION:PT1H
X-Robots-Tag:noindex
X-PUBLISHED-TTL:PT1H
BEGIN:VTIMEZONE
TZID:America/Chicago
BEGIN:DAYLIGHT
TZOFFSETFROM:-0600
TZOFFSETTO:-0500
TZNAME:CDT
DTSTART:20250309T080000
END:DAYLIGHT
BEGIN:STANDARD
TZOFFSETFROM:-0500
TZOFFSETTO:-0600
TZNAME:CST
DTSTART:20251102T070000
END:STANDARD
BEGIN:DAYLIGHT
TZOFFSETFROM:-0600
TZOFFSETTO:-0500
TZNAME:CDT
DTSTART:20260308T080000
END:DAYLIGHT
BEGIN:STANDARD
TZOFFSETFROM:-0500
TZOFFSETTO:-0600
TZNAME:CST
DTSTART:20261101T070000
END:STANDARD
BEGIN:DAYLIGHT
TZOFFSETFROM:-0600
TZOFFSETTO:-0500
TZNAME:CDT
DTSTART:20270314T080000
END:DAYLIGHT
BEGIN:STANDARD
TZOFFSETFROM:-0500
TZOFFSETTO:-0600
TZNAME:CST
DTSTART:20271107T070000
END:STANDARD
END:VTIMEZONE
BEGIN:VEVENT
DTSTART;TZID=America/Chicago:20260310T180000
DTEND;TZID=America/Chicago:20260310T200000
DTSTAMP:20260421T132513
CREATED:20260225T212453Z
LAST-MODIFIED:20260225T212453Z
UID:3843-1773165600-1773172800@www.barnescounty.us
SUMMARY:Planning and Zoning Meeting
DESCRIPTION:BC_Planning_Zoning_March_10_2026
URL:https://www.barnescounty.us/index.php/event/planning-and-zoning-meeting/
LOCATION:Barnes County Courthouse\, 230 4th St. NW\, Valley City\, 58072\, United States
END:VEVENT
END:VCALENDAR