BEGIN:VCALENDAR
VERSION:2.0
PRODID:-//Official Website of Barnes County, North Dakota - ECPv6.15.20//NONSGML v1.0//EN
CALSCALE:GREGORIAN
METHOD:PUBLISH
X-ORIGINAL-URL:https://www.barnescounty.us
X-WR-CALDESC:Events for Official Website of Barnes County, North Dakota
REFRESH-INTERVAL;VALUE=DURATION:PT1H
X-Robots-Tag:noindex
X-PUBLISHED-TTL:PT1H
BEGIN:VTIMEZONE
TZID:America/Chicago
BEGIN:DAYLIGHT
TZOFFSETFROM:-0600
TZOFFSETTO:-0500
TZNAME:CDT
DTSTART:20250309T080000
END:DAYLIGHT
BEGIN:STANDARD
TZOFFSETFROM:-0500
TZOFFSETTO:-0600
TZNAME:CST
DTSTART:20251102T070000
END:STANDARD
BEGIN:DAYLIGHT
TZOFFSETFROM:-0600
TZOFFSETTO:-0500
TZNAME:CDT
DTSTART:20260308T080000
END:DAYLIGHT
BEGIN:STANDARD
TZOFFSETFROM:-0500
TZOFFSETTO:-0600
TZNAME:CST
DTSTART:20261101T070000
END:STANDARD
BEGIN:DAYLIGHT
TZOFFSETFROM:-0600
TZOFFSETTO:-0500
TZNAME:CDT
DTSTART:20270314T080000
END:DAYLIGHT
BEGIN:STANDARD
TZOFFSETFROM:-0500
TZOFFSETTO:-0600
TZNAME:CST
DTSTART:20271107T070000
END:STANDARD
END:VTIMEZONE
BEGIN:VEVENT
DTSTART;TZID=America/Chicago:20260309T064500
DTEND;TZID=America/Chicago:20260309T093000
DTSTAMP:20260421T195345
CREATED:20260306T143843Z
LAST-MODIFIED:20260306T143843Z
UID:3874-1773038700-1773048600@www.barnescounty.us
SUMMARY:VCBC Development Corp
DESCRIPTION:March 9\, 2026 VCBC Development Corp
URL:https://www.barnescounty.us/index.php/event/vcbc-development-corp/
END:VEVENT
BEGIN:VEVENT
DTSTART;TZID=America/Chicago:20260309T090000
DTEND;TZID=America/Chicago:20260309T120000
DTSTAMP:20260421T195345
CREATED:20260303T160202Z
LAST-MODIFIED:20260303T160202Z
UID:3855-1773046800-1773057600@www.barnescounty.us
SUMMARY:Water Resource District Meeting
DESCRIPTION:03.09.26 WRD amended agenda
URL:https://www.barnescounty.us/index.php/event/water-resource-district-meeting-6/
END:VEVENT
BEGIN:VEVENT
DTSTART;TZID=America/Chicago:20260310T180000
DTEND;TZID=America/Chicago:20260310T200000
DTSTAMP:20260421T195345
CREATED:20260225T212453Z
LAST-MODIFIED:20260225T212453Z
UID:3843-1773165600-1773172800@www.barnescounty.us
SUMMARY:Planning and Zoning Meeting
DESCRIPTION:BC_Planning_Zoning_March_10_2026
URL:https://www.barnescounty.us/index.php/event/planning-and-zoning-meeting/
LOCATION:Barnes County Courthouse\, 230 4th St. NW\, Valley City\, 58072\, United States
END:VEVENT
BEGIN:VEVENT
DTSTART;TZID=America/Chicago:20260313T100000
DTEND;TZID=America/Chicago:20260313T120000
DTSTAMP:20260421T195345
CREATED:20260312T121621Z
LAST-MODIFIED:20260312T124809Z
UID:3882-1773396000-1773403200@www.barnescounty.us
SUMMARY:Water Resource District Special Meeting
DESCRIPTION:03.13.26 SP agenda WRD
URL:https://www.barnescounty.us/index.php/event/water-resource-district-special-meeting/
END:VEVENT
BEGIN:VEVENT
DTSTART;TZID=America/Chicago:20260317T080000
DTEND;TZID=America/Chicago:20260317T100000
DTSTAMP:20260421T195345
CREATED:20260312T162835Z
LAST-MODIFIED:20260312T215917Z
UID:3889-1773734400-1773741600@www.barnescounty.us
SUMMARY:Commission Meeting
DESCRIPTION:March 17\, 2026\, regular commission meeting will be held at the Barnes County Courthouse in the Commission Chambers at 8AM Central time. Click the link below to read the agenda for the meeting. \nMeeting Agenda
URL:https://www.barnescounty.us/index.php/event/commission-meeting-30/
LOCATION:Barnes County Courthouse\, 230 4th St. NW\, Valley City\, 58072\, United States
END:VEVENT
BEGIN:VEVENT
DTSTART;TZID=America/Chicago:20260325T080000
DTEND;TZID=America/Chicago:20260325T120000
DTSTAMP:20260421T195345
CREATED:20260319T152811Z
LAST-MODIFIED:20260319T152811Z
UID:3900-1774425600-1774440000@www.barnescounty.us
SUMMARY:Barnes-LaMoure Joint Water Resource Special Meeting
DESCRIPTION:03.25.26 SP agenda WRD
URL:https://www.barnescounty.us/index.php/event/barnes-lamoure-joint-water-resource-special-meeting/
END:VEVENT
BEGIN:VEVENT
DTSTART;TZID=America/Chicago:20260403T000000
DTEND;TZID=America/Chicago:20260403T235959
DTSTAMP:20260421T195345
CREATED:20260330T183558Z
LAST-MODIFIED:20260330T183558Z
UID:3915-1775174400-1775260799@www.barnescounty.us
SUMMARY:Offices Closed (Good Friday)
DESCRIPTION:Barnes County Office’s will be closed all day Friday April 3\, 2026\, in observance of Good Friday. With the exception of Barnes County Dispatch\, Barnes County Correctional Center\, and the Barnes County Sheriff’s Office working 24/7. If you have any concerns or questions\, please get ahold of the courthouse on the next available business day.
URL:https://www.barnescounty.us/index.php/event/offices-closed-good-friday-2/
END:VEVENT
BEGIN:VEVENT
DTSTART;TZID=America/Chicago:20260407T080000
DTEND;TZID=America/Chicago:20260407T100000
DTSTAMP:20260421T195345
CREATED:20260401T161210Z
LAST-MODIFIED:20260401T163533Z
UID:3919-1775548800-1775556000@www.barnescounty.us
SUMMARY:Commission Meeting
DESCRIPTION:April 7\, 2026 Comm Agenda
URL:https://www.barnescounty.us/index.php/event/commission-meeting-31/
LOCATION:Barnes County Courthouse\, 230 4th St. NW\, Valley City\, 58072\, United States
END:VEVENT
BEGIN:VEVENT
DTSTART;TZID=America/Chicago:20260413T090000
DTEND;TZID=America/Chicago:20260413T120000
DTSTAMP:20260421T195345
CREATED:20260407T175043Z
LAST-MODIFIED:20260407T175043Z
UID:3958-1776070800-1776081600@www.barnescounty.us
SUMMARY:Water Resource District Meeting
DESCRIPTION:04.13.26 WRD agenda
URL:https://www.barnescounty.us/index.php/event/water-resource-district-meeting-7/
END:VEVENT
BEGIN:VEVENT
DTSTART;TZID=America/Chicago:20260414T180000
DTEND;TZID=America/Chicago:20260414T190000
DTSTAMP:20260421T195345
CREATED:20260407T175053Z
LAST-MODIFIED:20260407T175053Z
UID:3955-1776189600-1776193200@www.barnescounty.us
SUMMARY:Planning & Zoning Meeting
DESCRIPTION:Click the link below to see the meeting agenda. \nAgenda
URL:https://www.barnescounty.us/index.php/event/planning-zoning-meeting-2/
LOCATION:Barnes County Courthouse\, 230 4th St. NW\, Valley City\, 58072\, United States
END:VEVENT
BEGIN:VEVENT
DTSTART;TZID=America/Chicago:20260421T080000
DTEND;TZID=America/Chicago:20260421T100000
DTSTAMP:20260421T195345
CREATED:20260416T152729Z
LAST-MODIFIED:20260420T203509Z
UID:4062-1776758400-1776765600@www.barnescounty.us
SUMMARY:Barnes County Commission Meeting
DESCRIPTION:Agenda
URL:https://www.barnescounty.us/index.php/event/barnes-county-commission-meeting/
END:VEVENT
END:VCALENDAR