BEGIN:VCALENDAR
VERSION:2.0
PRODID:-//Official Website of Barnes County, North Dakota - ECPv6.15.20//NONSGML v1.0//EN
CALSCALE:GREGORIAN
METHOD:PUBLISH
X-ORIGINAL-URL:https://www.barnescounty.us
X-WR-CALDESC:Events for Official Website of Barnes County, North Dakota
REFRESH-INTERVAL;VALUE=DURATION:PT1H
X-Robots-Tag:noindex
X-PUBLISHED-TTL:PT1H
BEGIN:VTIMEZONE
TZID:America/Chicago
BEGIN:DAYLIGHT
TZOFFSETFROM:-0600
TZOFFSETTO:-0500
TZNAME:CDT
DTSTART:20240310T080000
END:DAYLIGHT
BEGIN:STANDARD
TZOFFSETFROM:-0500
TZOFFSETTO:-0600
TZNAME:CST
DTSTART:20241103T070000
END:STANDARD
BEGIN:DAYLIGHT
TZOFFSETFROM:-0600
TZOFFSETTO:-0500
TZNAME:CDT
DTSTART:20250309T080000
END:DAYLIGHT
BEGIN:STANDARD
TZOFFSETFROM:-0500
TZOFFSETTO:-0600
TZNAME:CST
DTSTART:20251102T070000
END:STANDARD
BEGIN:DAYLIGHT
TZOFFSETFROM:-0600
TZOFFSETTO:-0500
TZNAME:CDT
DTSTART:20260308T080000
END:DAYLIGHT
BEGIN:STANDARD
TZOFFSETFROM:-0500
TZOFFSETTO:-0600
TZNAME:CST
DTSTART:20261101T070000
END:STANDARD
END:VTIMEZONE
BEGIN:VEVENT
DTSTART;TZID=America/Chicago:20250901T000000
DTEND;TZID=America/Chicago:20250901T235959
DTSTAMP:20260421T213047
CREATED:20250821T140637Z
LAST-MODIFIED:20250821T140637Z
UID:2936-1756684800-1756771199@www.barnescounty.us
SUMMARY:Office's Closed (Labor Day)
DESCRIPTION:
URL:https://www.barnescounty.us/index.php/event/offices-closed-labor-day/
END:VEVENT
BEGIN:VEVENT
DTSTART;TZID=America/Chicago:20250902T080000
DTEND;TZID=America/Chicago:20250902T093000
DTSTAMP:20260421T213047
CREATED:20250827T154030Z
LAST-MODIFIED:20250827T154030Z
UID:2975-1756800000-1756805400@www.barnescounty.us
SUMMARY:Commission Meeting
DESCRIPTION:September 2\, 2025
URL:https://www.barnescounty.us/index.php/event/commission-meeting-20/
LOCATION:Barnes County Courthouse\, 230 4th St. NW\, Valley City\, 58072\, United States
END:VEVENT
BEGIN:VEVENT
DTSTART;TZID=America/Chicago:20250908T064500
DTEND;TZID=America/Chicago:20250908T090000
DTSTAMP:20260421T213047
CREATED:20250904T184544Z
LAST-MODIFIED:20250904T184544Z
UID:2994-1757313900-1757322000@www.barnescounty.us
SUMMARY:VCBCDC Meeting
DESCRIPTION:September 8\, 2025 VCBCDC Board Meeting
URL:https://www.barnescounty.us/index.php/event/vcbcdc-meeting/
END:VEVENT
BEGIN:VEVENT
DTSTART;TZID=America/Chicago:20250908T090000
DTEND;TZID=America/Chicago:20250908T120000
DTSTAMP:20260421T213047
CREATED:20250902T144026Z
LAST-MODIFIED:20250902T144026Z
UID:2990-1757322000-1757332800@www.barnescounty.us
SUMMARY:Water Resource District
DESCRIPTION:09.08.25 WRD agenda
URL:https://www.barnescounty.us/index.php/event/water-resource-district-2/
END:VEVENT
BEGIN:VEVENT
DTSTART;TZID=America/Chicago:20250916T080000
DTEND;TZID=America/Chicago:20250916T093000
DTSTAMP:20260421T213047
CREATED:20250910T152647Z
LAST-MODIFIED:20250910T152647Z
UID:3020-1758009600-1758015000@www.barnescounty.us
SUMMARY:Commission Meeting
DESCRIPTION:September 16\, 2025
URL:https://www.barnescounty.us/index.php/event/commission-meeting-21/
LOCATION:Barnes County Courthouse\, 230 4th St. NW\, Valley City\, 58072\, United States
END:VEVENT
END:VCALENDAR