BEGIN:VCALENDAR
VERSION:2.0
PRODID:-//Official Website of Barnes County, North Dakota - ECPv6.15.20//NONSGML v1.0//EN
CALSCALE:GREGORIAN
METHOD:PUBLISH
X-ORIGINAL-URL:https://www.barnescounty.us
X-WR-CALDESC:Events for Official Website of Barnes County, North Dakota
REFRESH-INTERVAL;VALUE=DURATION:PT1H
X-Robots-Tag:noindex
X-PUBLISHED-TTL:PT1H
BEGIN:VTIMEZONE
TZID:America/Chicago
BEGIN:DAYLIGHT
TZOFFSETFROM:-0600
TZOFFSETTO:-0500
TZNAME:CDT
DTSTART:20240310T080000
END:DAYLIGHT
BEGIN:STANDARD
TZOFFSETFROM:-0500
TZOFFSETTO:-0600
TZNAME:CST
DTSTART:20241103T070000
END:STANDARD
BEGIN:DAYLIGHT
TZOFFSETFROM:-0600
TZOFFSETTO:-0500
TZNAME:CDT
DTSTART:20250309T080000
END:DAYLIGHT
BEGIN:STANDARD
TZOFFSETFROM:-0500
TZOFFSETTO:-0600
TZNAME:CST
DTSTART:20251102T070000
END:STANDARD
BEGIN:DAYLIGHT
TZOFFSETFROM:-0600
TZOFFSETTO:-0500
TZNAME:CDT
DTSTART:20260308T080000
END:DAYLIGHT
BEGIN:STANDARD
TZOFFSETFROM:-0500
TZOFFSETTO:-0600
TZNAME:CST
DTSTART:20261101T070000
END:STANDARD
END:VTIMEZONE
BEGIN:VEVENT
DTSTART;TZID=America/Chicago:20251103T130000
DTEND;TZID=America/Chicago:20251103T140000
DTSTAMP:20260421T181822
CREATED:20251030T203447Z
LAST-MODIFIED:20251103T174108Z
UID:3170-1762174800-1762178400@www.barnescounty.us
SUMMARY:Commission Meeting (Special)
DESCRIPTION:November 4\, 2025\, there will be a special commission meeting with an outside vendor held via Zoom at 1PM Central Time. Click the link below to read the meeting agenda. \nMeeting Agenda
URL:https://www.barnescounty.us/index.php/event/commission-meeting-special/
END:VEVENT
BEGIN:VEVENT
DTSTART;TZID=America/Chicago:20251104T080000
DTEND;TZID=America/Chicago:20251104T090000
DTSTAMP:20260421T181822
CREATED:20251029T162229Z
LAST-MODIFIED:20251104T144640Z
UID:3160-1762243200-1762246800@www.barnescounty.us
SUMMARY:Commission Meeting
DESCRIPTION:November 4\, 2025\, regular commission meeting will be held at the Barnes County Courthouse in the Commission Chambers at 8AM Central time. Click the link below to read the agenda for the meeting.\nMeeting Agenda
URL:https://www.barnescounty.us/index.php/event/commission-meeting-nov-004/
LOCATION:Barnes County Courthouse\, 230 4th St. NW\, Valley City\, 58072\, United States
END:VEVENT
BEGIN:VEVENT
DTSTART;TZID=America/Chicago:20251110T064500
DTEND;TZID=America/Chicago:20251110T100000
DTSTAMP:20260421T181822
CREATED:20251106T194127Z
LAST-MODIFIED:20251106T194127Z
UID:3385-1762757100-1762768800@www.barnescounty.us
SUMMARY:VC-BC Development Corporation Meeting
DESCRIPTION:November 10\, 2025 VC-BC Development Corporation Agenda
URL:https://www.barnescounty.us/index.php/event/vc-bc-development-corporation-meeting-2/
END:VEVENT
BEGIN:VEVENT
DTSTART;TZID=America/Chicago:20251110T090000
DTEND;TZID=America/Chicago:20251110T120000
DTSTAMP:20260421T181822
CREATED:20251107T130020Z
LAST-MODIFIED:20251107T130020Z
UID:3388-1762765200-1762776000@www.barnescounty.us
SUMMARY:Water Resource District Meeting
DESCRIPTION:11.10.25 WRD agenda
URL:https://www.barnescounty.us/index.php/event/water-resource-district-meeting-2/
END:VEVENT
BEGIN:VEVENT
DTSTART;TZID=America/Chicago:20251111T000000
DTEND;TZID=America/Chicago:20251111T235959
DTSTAMP:20260421T181822
CREATED:20251001T141238Z
LAST-MODIFIED:20251103T220516Z
UID:3084-1762819200-1762905599@www.barnescounty.us
SUMMARY:Office's Closed (Veteran's Day)
DESCRIPTION:All Barnes County Office’s will be closed for Veteran’s Day\, with the exception of Barnes County Dispatch\, Barnes County Correctional Center\, and the Barnes County Sheriff’s Office working 24/7. If you have any concerns or questions\, please get ahold of the courthouse on the next available business day.
URL:https://www.barnescounty.us/index.php/event/offices-closed-veterans-day/
LOCATION:Barnes County Courthouse\, 230 4th St. NW\, Valley City\, 58072\, United States
END:VEVENT
BEGIN:VEVENT
DTSTART;TZID=America/Chicago:20251112T080000
DTEND;TZID=America/Chicago:20251112T100000
DTSTAMP:20260421T181822
CREATED:20251031T151815Z
LAST-MODIFIED:20251103T173408Z
UID:3181-1762934400-1762941600@www.barnescounty.us
SUMMARY:Weed Board Meeting
DESCRIPTION:November 12\, 2025\, there will be a Weed Board meeting located at the Barnes County Highway Department building. Click on the link below to read the meeting agenda. \nMeeting Agenda
URL:https://www.barnescounty.us/index.php/event/weed-board-meeting-6/
LOCATION:Barnes County Highway Department
END:VEVENT
BEGIN:VEVENT
DTSTART;TZID=America/Chicago:20251118T080000
DTEND;TZID=America/Chicago:20251118T100000
DTSTAMP:20260421T181822
CREATED:20251112T164336Z
LAST-MODIFIED:20251114T155258Z
UID:3398-1763452800-1763460000@www.barnescounty.us
SUMMARY:Commission Meeting
DESCRIPTION:November 18\, 2025\, regular commission meeting will be held at the Barnes County Courthouse in the Commission Chambers at 8AM Central time. Click the link below to read the agenda for the meeting. \nMeeting Agenda
URL:https://www.barnescounty.us/index.php/event/commission-meeting-23/
LOCATION:Barnes County Courthouse\, 230 4th St. NW\, Valley City\, 58072\, United States
END:VEVENT
BEGIN:VEVENT
DTSTART;TZID=America/Chicago:20251127T000000
DTEND;TZID=America/Chicago:20251127T235959
DTSTAMP:20260421T181822
CREATED:20251001T141357Z
LAST-MODIFIED:20251104T143610Z
UID:3087-1764201600-1764287999@www.barnescounty.us
SUMMARY:Office's Closed (Thanksgiving)
DESCRIPTION:All Barnes County Office’s will be closed for the 2025 Thanksgiving Holiday\, with the exception of Barnes County Dispatch\, Barnes County Correctional Center\, and the Barnes County Sheriff’s Office working 24/7.
URL:https://www.barnescounty.us/index.php/event/offices-closed-thanksgiving/
LOCATION:Barnes County Courthouse\, 230 4th St. NW\, Valley City\, 58072\, United States
END:VEVENT
END:VCALENDAR