BEGIN:VCALENDAR
VERSION:2.0
PRODID:-//Official Website of Barnes County, North Dakota - ECPv6.15.20//NONSGML v1.0//EN
CALSCALE:GREGORIAN
METHOD:PUBLISH
X-ORIGINAL-URL:https://www.barnescounty.us
X-WR-CALDESC:Events for Official Website of Barnes County, North Dakota
REFRESH-INTERVAL;VALUE=DURATION:PT1H
X-Robots-Tag:noindex
X-PUBLISHED-TTL:PT1H
BEGIN:VTIMEZONE
TZID:America/Chicago
BEGIN:DAYLIGHT
TZOFFSETFROM:-0600
TZOFFSETTO:-0500
TZNAME:CDT
DTSTART:20250309T080000
END:DAYLIGHT
BEGIN:STANDARD
TZOFFSETFROM:-0500
TZOFFSETTO:-0600
TZNAME:CST
DTSTART:20251102T070000
END:STANDARD
BEGIN:DAYLIGHT
TZOFFSETFROM:-0600
TZOFFSETTO:-0500
TZNAME:CDT
DTSTART:20260308T080000
END:DAYLIGHT
BEGIN:STANDARD
TZOFFSETFROM:-0500
TZOFFSETTO:-0600
TZNAME:CST
DTSTART:20261101T070000
END:STANDARD
BEGIN:DAYLIGHT
TZOFFSETFROM:-0600
TZOFFSETTO:-0500
TZNAME:CDT
DTSTART:20270314T080000
END:DAYLIGHT
BEGIN:STANDARD
TZOFFSETFROM:-0500
TZOFFSETTO:-0600
TZNAME:CST
DTSTART:20271107T070000
END:STANDARD
END:VTIMEZONE
BEGIN:VEVENT
DTSTART;TZID=America/Chicago:20260203T080000
DTEND;TZID=America/Chicago:20260203T213000
DTSTAMP:20260421T133848
CREATED:20260128T160542Z
LAST-MODIFIED:20260128T160542Z
UID:3750-1770105600-1770154200@www.barnescounty.us
SUMMARY:Commission Meeting
DESCRIPTION:February 3\, 2026 Comm Agenda
URL:https://www.barnescounty.us/index.php/event/commission-meeting-28/
LOCATION:Barnes County Courthouse\, 230 4th St. NW\, Valley City\, 58072\, United States
END:VEVENT
BEGIN:VEVENT
DTSTART;TZID=America/Chicago:20260209T064500
DTEND;TZID=America/Chicago:20260209T213000
DTSTAMP:20260421T133848
CREATED:20260205T222506Z
LAST-MODIFIED:20260205T222506Z
UID:3779-1770619500-1770672600@www.barnescounty.us
SUMMARY:VCBCDC Board Meeting
DESCRIPTION:February 9\, 2026 VCBCDC Board Meeting
URL:https://www.barnescounty.us/index.php/event/vcbcdc-board-meeting/
END:VEVENT
BEGIN:VEVENT
DTSTART;TZID=America/Chicago:20260209T090000
DTEND;TZID=America/Chicago:20260209T120000
DTSTAMP:20260421T133848
CREATED:20260203T152603Z
LAST-MODIFIED:20260203T152603Z
UID:3762-1770627600-1770638400@www.barnescounty.us
SUMMARY:Water Resource District Meeting
DESCRIPTION:02.09.26 WRD agenda
URL:https://www.barnescounty.us/index.php/event/water-resource-district-meeting-5/
END:VEVENT
BEGIN:VEVENT
DTSTART;TZID=America/Chicago:20260210T060000
DTEND;TZID=America/Chicago:20260210T190000
DTSTAMP:20260421T133848
CREATED:20260128T171708Z
LAST-MODIFIED:20260128T171708Z
UID:3754-1770703200-1770750000@www.barnescounty.us
SUMMARY:Planning & Zoning Meeting
DESCRIPTION:Click the link below to see the meeting agenda. \nAgenda
URL:https://www.barnescounty.us/index.php/event/planning-zoning-meeting/
LOCATION:Barnes County Courthouse\, 230 4th St. NW\, Valley City\, 58072\, United States
END:VEVENT
BEGIN:VEVENT
DTSTART;TZID=America/Chicago:20260216T000000
DTEND;TZID=America/Chicago:20260216T235959
DTSTAMP:20260421T133848
CREATED:20260106T171607Z
LAST-MODIFIED:20260106T171607Z
UID:3681-1771200000-1771286399@www.barnescounty.us
SUMMARY:Offices Closed (President's Day)
DESCRIPTION:Barnes County Office’s will be closed all day for President’s Day\, with the exception of Barnes County Dispatch\, Barnes County Correctional Center\, and the Barnes County Sheriff’s Office working 24/7. If you have any concerns or questions\, please get ahold of the courthouse on the next available business day.
URL:https://www.barnescounty.us/index.php/event/offices-closed-presidents-day-2/
END:VEVENT
BEGIN:VEVENT
DTSTART;TZID=America/Chicago:20260217T070000
DTEND;TZID=America/Chicago:20260217T220000
DTSTAMP:20260421T133848
CREATED:20260211T160316Z
LAST-MODIFIED:20260211T160456Z
UID:3795-1771311600-1771365600@www.barnescounty.us
SUMMARY:Commission Meeting & Park Board Meeting
DESCRIPTION:February 17\, 2026 Comm Agenda
URL:https://www.barnescounty.us/index.php/event/commission-meeting-park-board-meeting/
LOCATION:Barnes County Courthouse\, 230 4th St. NW\, Valley City\, 58072\, United States
END:VEVENT
BEGIN:VEVENT
DTSTART;TZID=America/Chicago:20260224T080000
DTEND;TZID=America/Chicago:20260224T100000
DTSTAMP:20260421T133848
CREATED:20260205T171547Z
LAST-MODIFIED:20260205T171547Z
UID:3772-1771920000-1771927200@www.barnescounty.us
SUMMARY:Weed Board Meeting
DESCRIPTION:February 24\, 2026 Weed Agenda
URL:https://www.barnescounty.us/index.php/event/weed-board-meeting-7/
END:VEVENT
END:VCALENDAR